BEGIN:VCALENDAR
VERSION:2.0
PRODID:-//Squarespace Inc/Squarespace 6//v6//EN
BEGIN:VEVENT
UID:55eff44ee4b0359ecfbb9b18@squarespace.com
DTSTAMP:20150909T085809Z
DTSTART:20151015T213000Z
DTEND:20151015T233000Z
SUMMARY:Hall hire
END:VEVENT
END:VCALENDAR
