BEGIN:VCALENDAR
VERSION:2.0
PRODID:-//Squarespace Inc/Squarespace 6//v6//EN
BEGIN:VEVENT
UID:55efc643e4b0359ecfbb29d1@squarespace.com
DTSTAMP:20150909T054146Z
DTSTART:20151011T130000Z
DTEND:20151011T210000Z
SUMMARY:Hall Hire
END:VEVENT
END:VCALENDAR
