BEGIN:VCALENDAR
VERSION:2.0
PRODID:-//Squarespace Inc/Squarespace 6//v6//EN
BEGIN:VEVENT
UID:57eef72903596e0c056e97f7@squarespace.com
DTSTAMP:20160930T233747Z
DTSTART:20170624T160000Z
DTEND:20170625T140000Z
SUMMARY:HALL HIRE
END:VEVENT
END:VCALENDAR
