BEGIN:VCALENDAR
VERSION:2.0
PRODID:-//Squarespace Inc/Squarespace 6//v6//EN
BEGIN:VEVENT
UID:57eef701e58c621a2986d3d4@squarespace.com
DTSTAMP:20160930T233702Z
DTSTART:20170211T190000Z
DTEND:20170212T150000Z
SUMMARY:HALL HIRE
END:VEVENT
END:VCALENDAR
