BEGIN:VCALENDAR
VERSION:2.0
PRODID:-//Squarespace Inc/Squarespace 6//v6//EN
BEGIN:VEVENT
UID:57eef6d4e58c621a2986d2b2@squarespace.com
DTSTAMP:20160930T233617Z
DTSTART:20170121T190000Z
DTEND:20170122T150000Z
SUMMARY:HALL HIRE
END:VEVENT
END:VCALENDAR
