BEGIN:VCALENDAR
VERSION:2.0
PRODID:-//Squarespace Inc/Squarespace 6//v6//EN
BEGIN:VEVENT
UID:5848e87e8419c2661e44dd9c@squarespace.com
DTSTAMP:20161208T045916Z
DTSTART:20161218T130000Z
DTEND:20161218T210000Z
SUMMARY:Worser Bay Jnr Surf Carnival 
END:VEVENT
END:VCALENDAR
