BEGIN:VCALENDAR
VERSION:2.0
PRODID:-//Squarespace Inc/Squarespace 6//v6//EN
BEGIN:VEVENT
UID:57eef4f120099ef24d15c3d5@squarespace.com
DTSTAMP:20160930T232825Z
DTSTART:20161126T140000Z
DTEND:20161126T180000Z
SUMMARY:Club function
END:VEVENT
END:VCALENDAR
