BEGIN:VCALENDAR
VERSION:2.0
PRODID:-//Squarespace Inc/Squarespace 6//v6//EN
BEGIN:VEVENT
UID:57eef53d5016e13a6d3b5e83@squarespace.com
DTSTAMP:20160930T232937Z
DTSTART:20161120T140000Z
DTEND:20161120T220000Z
SUMMARY:SURF CARNIVAL
END:VEVENT
END:VCALENDAR
