BEGIN:VCALENDAR
VERSION:2.0
PRODID:-//Squarespace Inc/Squarespace 6//v6//EN
BEGIN:VEVENT
UID:57eef4b5ebbd1aa018bc5d40@squarespace.com
DTSTAMP:20160930T232732Z
DTSTART:20161119T193000Z
DTEND:20161120T130000Z
SUMMARY:Hall Hire
END:VEVENT
END:VCALENDAR
