BEGIN:VCALENDAR
VERSION:2.0
PRODID:-//Squarespace Inc/Squarespace 6//v6//EN
BEGIN:VEVENT
UID:57eb4edce3df28caea8d0096@squarespace.com
DTSTAMP:20160928T050251Z
DTSTART:20161118T130000Z
DTEND:20161118T220000Z
SUMMARY:HALL HIRE
END:VEVENT
END:VCALENDAR
