BEGIN:VCALENDAR
VERSION:2.0
PRODID:-//Squarespace Inc/Squarespace 6//v6//EN
BEGIN:VEVENT
UID:57eb4e8c5016e11919452c8c@squarespace.com
DTSTAMP:20161011T082949Z
DTSTART:20161117T130000Z
DTEND:20161117T220000Z
SUMMARY:HALL HIRE
END:VEVENT
END:VCALENDAR
