BEGIN:VCALENDAR
VERSION:2.0
PRODID:-//Squarespace Inc/Squarespace 6//v6//EN
BEGIN:VEVENT
UID:57eef3c446c3c49d114afcf0@squarespace.com
DTSTAMP:20160930T232401Z
DTSTART:20161008T140000Z
DTEND:20161009T200000Z
SUMMARY:Hall Hire
END:VEVENT
END:VCALENDAR
