BEGIN:VCALENDAR
VERSION:2.0
PRODID:-//Squarespace Inc/Squarespace 6//v6//EN
BEGIN:VEVENT
UID:57eee97620099ef24d1561da@squarespace.com
DTSTAMP:20160930T223930Z
DTSTART:20161002T140000Z
DTEND:20161002T180000Z
SUMMARY:Hall Hire
END:VEVENT
END:VCALENDAR
