BEGIN:VCALENDAR
VERSION:2.0
PRODID:-//Squarespace Inc/Squarespace 6//v6//EN
BEGIN:VEVENT
UID:5642fd68e4b081513da7d2c8@squarespace.com
DTSTAMP:20151111T083517Z
DTSTART:20151205T210000Z
DTEND:20151205T220000Z
SUMMARY:Patrols Start and Lifeguard Refreasher
END:VEVENT
END:VCALENDAR
