BEGIN:VCALENDAR
VERSION:2.0
PRODID:-//Squarespace Inc/Squarespace 6//v6//EN
BEGIN:VEVENT
UID:5642fdd6e4b0a608992f34c6@squarespace.com
DTSTAMP:20151111T083642Z
DTSTART:20151205T220000Z
DTEND:20151206T003000Z
SUMMARY:Club Social BBQ 
END:VEVENT
END:VCALENDAR
